BEGIN:VCALENDAR
VERSION:2.0
PRODID:-//I3E Institute - ECPv6.15.20//NONSGML v1.0//EN
CALSCALE:GREGORIAN
METHOD:PUBLISH
X-ORIGINAL-URL:https://i3e-institute.de
X-WR-CALDESC:Veranstaltungen für I3E Institute
REFRESH-INTERVAL;VALUE=DURATION:PT1H
X-Robots-Tag:noindex
X-PUBLISHED-TTL:PT1H
BEGIN:VTIMEZONE
TZID:Europe/Berlin
BEGIN:DAYLIGHT
TZOFFSETFROM:+0100
TZOFFSETTO:+0200
TZNAME:CEST
DTSTART:20240331T010000
END:DAYLIGHT
BEGIN:STANDARD
TZOFFSETFROM:+0200
TZOFFSETTO:+0100
TZNAME:CET
DTSTART:20241027T010000
END:STANDARD
BEGIN:DAYLIGHT
TZOFFSETFROM:+0100
TZOFFSETTO:+0200
TZNAME:CEST
DTSTART:20250330T010000
END:DAYLIGHT
BEGIN:STANDARD
TZOFFSETFROM:+0200
TZOFFSETTO:+0100
TZNAME:CET
DTSTART:20251026T010000
END:STANDARD
BEGIN:DAYLIGHT
TZOFFSETFROM:+0100
TZOFFSETTO:+0200
TZNAME:CEST
DTSTART:20260329T010000
END:DAYLIGHT
BEGIN:STANDARD
TZOFFSETFROM:+0200
TZOFFSETTO:+0100
TZNAME:CET
DTSTART:20261025T010000
END:STANDARD
END:VTIMEZONE
BEGIN:VEVENT
DTSTART;TZID=Europe/Berlin:20250305T080000
DTEND;TZID=Europe/Berlin:20250305T170000
DTSTAMP:20260421T231900
CREATED:20250304T110020Z
LAST-MODIFIED:20250304T110829Z
UID:3572-1741161600-1741194000@i3e-institute.de
SUMMARY:Nachhaltige Innovation & Unternehmertum – Zukunft erfolgreich gestalten
DESCRIPTION:Wie können Unternehmen nachhaltige Innovationen vorantreiben und gleichzeitig wirtschaftlichen Erfolg erzielen? Welche Chancen bietet die digitale Transformation für nachhaltige Geschäftsmodelle? \nIn dieser interaktiven Veranstaltung bietet das I3E-Institute praxisnahe Einblicke in aktuelle Entwicklungen rund um Impact Innovation\, nachhaltiges Unternehmertum und technologische Trends. Experten aus Wissenschaft und Wirtschaft teilen ihr Wissen\, erfolgreiche Gründer berichten von ihren Erfahrungen\, und Sie erhalten wertvolle Impulse für die Zukunftsgestaltung Ihres Unternehmens. \n Programm-Highlights:\n🔹 Begrüßung & Einführung – Vorstellung des I3E-Instituts und der Veranstaltungsthemen \n🔹 Keynote: Zukunftsfähige Innovationen im Mittelstand – Erfolgreiche Praxisbeispiele und neue Trends \n🔹 Panel-Diskussion: Nachhaltiges Unternehmertum als Erfolgsfaktor – Experten aus Wirtschaft\, Wissenschaft und Politik im Gespräch \n🔹 Workshops & Best Practices:✔ Nachhaltige Geschäftsmodelle entwickeln✔ Finanzierung und Fördermöglichkeiten für Startups & KMUs✔ Digitalisierung & Innovation für nachhaltigen Unternehmenserfolg \n🔹 Networking & Austausch – Gelegenheiten zur Vernetzung mit Experten\, Startups und Unternehmen
URL:https://i3e-institute.de/event/nachhaltige-innovation-unternehmertum-zukunft-erfolgreich-gestalten/
LOCATION:Online\, Online\, Online\, Online\, Online\, Germany
ATTACH;FMTTYPE=image/png:https://i3e-institute.de/wp-content/uploads/2025/02/ffheader.png
END:VEVENT
END:VCALENDAR