BEGIN:VCALENDAR
VERSION:2.0
PRODID:-//I3E Institute - ECPv6.15.20//NONSGML v1.0//EN
CALSCALE:GREGORIAN
METHOD:PUBLISH
X-ORIGINAL-URL:https://i3e-institute.de
X-WR-CALDESC:Veranstaltungen für I3E Institute
REFRESH-INTERVAL;VALUE=DURATION:PT1H
X-Robots-Tag:noindex
X-PUBLISHED-TTL:PT1H
BEGIN:VTIMEZONE
TZID:Europe/Berlin
BEGIN:DAYLIGHT
TZOFFSETFROM:+0100
TZOFFSETTO:+0200
TZNAME:CEST
DTSTART:20240331T010000
END:DAYLIGHT
BEGIN:STANDARD
TZOFFSETFROM:+0200
TZOFFSETTO:+0100
TZNAME:CET
DTSTART:20241027T010000
END:STANDARD
BEGIN:DAYLIGHT
TZOFFSETFROM:+0100
TZOFFSETTO:+0200
TZNAME:CEST
DTSTART:20250330T010000
END:DAYLIGHT
BEGIN:STANDARD
TZOFFSETFROM:+0200
TZOFFSETTO:+0100
TZNAME:CET
DTSTART:20251026T010000
END:STANDARD
BEGIN:DAYLIGHT
TZOFFSETFROM:+0100
TZOFFSETTO:+0200
TZNAME:CEST
DTSTART:20260329T010000
END:DAYLIGHT
BEGIN:STANDARD
TZOFFSETFROM:+0200
TZOFFSETTO:+0100
TZNAME:CET
DTSTART:20261025T010000
END:STANDARD
END:VTIMEZONE
BEGIN:VEVENT
DTSTART;TZID=Europe/Berlin:20250510T090000
DTEND;TZID=Europe/Berlin:20250510T170000
DTSTAMP:20260421T204515
CREATED:20250407T211448Z
LAST-MODIFIED:20250410T092936Z
UID:4117-1746867600-1746896400@i3e-institute.de
SUMMARY:Von der Idee zum Pitch & Markteintritt
DESCRIPTION:Startup-Training Aufbaumodul: Von der Idee zum Pitch & Markteintritt\nDu willst deine Idee weiterentwickeln und professionell präsentieren?\nDann ist das Aufbaumodul des Startup-Trainings genau das Richtige für dich.\nGemeinsam mit dem I3E lernst du\, wie du dein Konzept überzeugend präsentierst\, deine Finanzierung planst und den Markteintritt meisterst. \nJetzt wird’s konkret: Feile an deinem Pitch und plane deinen Business-Start! \nDas Training richtet sich an alle\, die das Basismodul besucht haben oder bereits ein fundiertes Konzept mitbringen: \n\nWie bereite ich einen überzeugenden Pitch vor?\nWelche Finanzierungswege stehen mir offen?\nWie bringe ich mein Produkt erfolgreich auf den Markt?\n\nWorkshop-Inhalte\nPitch-Training\nAufbau\, Storytelling\, Präsentationstechniken \nFörderungen & Finanzen\nFinanzierungsstrategien\, Fördermittel\, Planung \nBusinessplan & Markteintritt\nStrategie\, Vermarktung\, Skalierung \nTermin\nSamstag\, 10. Mai 2025\nHochschule Albstadt-Sigmaringen\nFlexibel belegbar – auch unabhängig vom Basismodul möglich \nAnmeldung\n\n	Hinweis: Für diesen Inhalt ist JavaScript erforderlich.
URL:https://i3e-institute.de/event/von-der-idee-zum-pitch-markteintritt/
LOCATION:Hochschule Albstadt-Sigmaringen\, Anton-Günther-Straße 51\, Sigmaringen\, Germany
ATTACH;FMTTYPE=image/jpeg:https://i3e-institute.de/wp-content/uploads/2025/04/Pitch.jpg
END:VEVENT
END:VCALENDAR