BEGIN:VCALENDAR
VERSION:2.0
PRODID:-//I3E Institute - ECPv6.15.20//NONSGML v1.0//EN
CALSCALE:GREGORIAN
METHOD:PUBLISH
X-ORIGINAL-URL:https://i3e-institute.de
X-WR-CALDESC:Veranstaltungen für I3E Institute
REFRESH-INTERVAL;VALUE=DURATION:PT1H
X-Robots-Tag:noindex
X-PUBLISHED-TTL:PT1H
BEGIN:VTIMEZONE
TZID:Europe/Berlin
BEGIN:DAYLIGHT
TZOFFSETFROM:+0100
TZOFFSETTO:+0200
TZNAME:CEST
DTSTART:20240331T010000
END:DAYLIGHT
BEGIN:STANDARD
TZOFFSETFROM:+0200
TZOFFSETTO:+0100
TZNAME:CET
DTSTART:20241027T010000
END:STANDARD
BEGIN:DAYLIGHT
TZOFFSETFROM:+0100
TZOFFSETTO:+0200
TZNAME:CEST
DTSTART:20250330T010000
END:DAYLIGHT
BEGIN:STANDARD
TZOFFSETFROM:+0200
TZOFFSETTO:+0100
TZNAME:CET
DTSTART:20251026T010000
END:STANDARD
BEGIN:DAYLIGHT
TZOFFSETFROM:+0100
TZOFFSETTO:+0200
TZNAME:CEST
DTSTART:20260329T010000
END:DAYLIGHT
BEGIN:STANDARD
TZOFFSETFROM:+0200
TZOFFSETTO:+0100
TZNAME:CET
DTSTART:20261025T010000
END:STANDARD
END:VTIMEZONE
BEGIN:VEVENT
DTSTART;TZID=Europe/Berlin:20250515T170000
DTEND;TZID=Europe/Berlin:20250515T200000
DTSTAMP:20260421T204522
CREATED:20250402T214137Z
LAST-MODIFIED:20250430T144632Z
UID:3841-1747328400-1747339200@i3e-institute.de
SUMMARY:Kick-off I3E
DESCRIPTION:Innovation vorantreiben\, den Wandel erfolgreich gestalten\nSehr geehrte Damen und Herren\,\nwir laden Sie herzlich ein zur Veranstaltung:\n„Innovation vorantreiben\, den Wandel erfolgreich gestalten“\ndes Instituts I3E der Hochschule Albstadt-Sigmaringen. \nDas Institute of Innovation\, Impact and Entrepreneurship (I3E) der Hochschule Albstadt-Sigmaringen\nwill gemeinsam mit Ihnen\, Unternehmer*innen und Start-ups\, Innovationen in Zeiten des Wandels voranbringen\nund neue Wege zur Stärkung der Wettbewerbsfähigkeit aufzeigen. \nEs erwartet Sie ein inspirierender Abend mit spannenden Impulsen\, konkreten Praxisbeispielen\nund aktiver Mitgestaltung. \nVeranstaltungsdetails\n\nDatum: 15. Mai 2025\nUhrzeit: 17:00 – 20:00 Uhr\nOrt: Hochschule Albstadt-Sigmaringen\, Anton-Günther-Str. 51\, 72488 Sigmaringen\n\nProgramm\n\nBegrüßung: Dr. Inge Mühldorfer\, Rektorin\nVorstellung des Instituts I3E: Leistungsportfolio und Angebot – Prof. Dr. Matthias Premer\nKeynote:\n„Digitalisierung – was Start-ups und Hidden Champions voneinander lernen können\nund wie die Hochschule dabei unterstützen kann“\nProf. Dr. Nils Herda\nPraxisbeispiele:\n\nWaste to Wow: Innovative Verpackungslösungen für Unternehmen\nMara Strenger – Sustainable Packaging Institute\nKI und Digitale Agenten verwalten Kanzleien\nRoman Sinkarenko – Robotics-first\nInnovative Produktentwicklung zwischen Bio-Bauernhof und Forschung\nProf. Dr. Andrea Maier-Nöth – Research Center for Food\, Consumer and Appliances\n\n\nWorkshop & Open Space:\nErfolgreich Zukunft gestalten – mit Prof. Dr. Matthias Premer und Prof. Dr. Uwe Sachse\nModeration: Andreas ter Woort\, Innovations- & Relationsmanager\n\nGemeinsam möchten wir mit Ihnen neue Ansätze zur Steigerung der Wettbewerbsfähigkeit entwickeln und diskutieren\,\nwie Unternehmen durch systematische Innovationsprozesse zukunftsfähig bleiben und gestärkt aus der Krise hervorgehen. \nDie Teilnehmerzahl ist begrenzt – sichern Sie sich daher frühzeitig Ihren Platz.  \nWir freuen uns darauf\, gemeinsam mit Ihnen Innovation mit Impact zu gestalten. \nHier anmelden:\n\n\n\n\n\n	Hinweis: Für diesen Inhalt ist JavaScript erforderlich.
URL:https://i3e-institute.de/event/kick-off/
LOCATION:Hochschule Albstadt-Sigmaringen\, Anton-Günther-Straße 51\, Sigmaringen\, Germany
ATTACH;FMTTYPE=image/jpeg:https://i3e-institute.de/wp-content/uploads/2025/04/I3E-KickOff.jpg
END:VEVENT
END:VCALENDAR