BEGIN:VCALENDAR
VERSION:2.0
PRODID:-//I3E Institute - ECPv6.15.20//NONSGML v1.0//EN
CALSCALE:GREGORIAN
METHOD:PUBLISH
X-ORIGINAL-URL:https://i3e-institute.de
X-WR-CALDESC:Veranstaltungen für I3E Institute
REFRESH-INTERVAL;VALUE=DURATION:PT1H
X-Robots-Tag:noindex
X-PUBLISHED-TTL:PT1H
BEGIN:VTIMEZONE
TZID:Europe/Berlin
BEGIN:DAYLIGHT
TZOFFSETFROM:+0100
TZOFFSETTO:+0200
TZNAME:CEST
DTSTART:20240331T010000
END:DAYLIGHT
BEGIN:STANDARD
TZOFFSETFROM:+0200
TZOFFSETTO:+0100
TZNAME:CET
DTSTART:20241027T010000
END:STANDARD
BEGIN:DAYLIGHT
TZOFFSETFROM:+0100
TZOFFSETTO:+0200
TZNAME:CEST
DTSTART:20250330T010000
END:DAYLIGHT
BEGIN:STANDARD
TZOFFSETFROM:+0200
TZOFFSETTO:+0100
TZNAME:CET
DTSTART:20251026T010000
END:STANDARD
BEGIN:DAYLIGHT
TZOFFSETFROM:+0100
TZOFFSETTO:+0200
TZNAME:CEST
DTSTART:20260329T010000
END:DAYLIGHT
BEGIN:STANDARD
TZOFFSETFROM:+0200
TZOFFSETTO:+0100
TZNAME:CET
DTSTART:20261025T010000
END:STANDARD
END:VTIMEZONE
BEGIN:VEVENT
DTSTART;TZID=Europe/Berlin:20251106T103000
DTEND;TZID=Europe/Berlin:20251106T110000
DTSTAMP:20260421T115131
CREATED:20251015T143036Z
LAST-MODIFIED:20251015T143042Z
UID:4779-1762425000-1762426800@i3e-institute.de
SUMMARY:Fachkräfte & Future Skill für Innovationsmanagement
DESCRIPTION:Fachkräfte & Future Skill für Innovationsmanagement\nFormat: Fachvortrag von Prof. Dr. Max Wolf mit anschließender Panel-Diskussion – im Rahmen der ganztägigen Karrierebörse der Hochschule Albstadt-Sigmaringen. \n\nDatum & Zeit:\n6. November 2025\,\n10:30 – 11:00 Uhr\n \nOrt: \n\nHochschule Albstadt-Sigmaringen\nAnton Gunther Str. 52\n72488 Sigmaringen\nGebäude 106\, Raum 620\n\n \nAnmeldung per Mail an:\nter.Woort@hs-albsig.de
URL:https://i3e-institute.de/event/fachkraefte-future-skill-fuer-innovationsmanagement/
LOCATION:Hochschule Albstadt-Sigmaringen\, Anton-Günther-Straße 51\, Sigmaringen\, Germany
ATTACH;FMTTYPE=image/jpeg:https://i3e-institute.de/wp-content/uploads/2025/10/Innovationsmanagement.jpg
END:VEVENT
END:VCALENDAR