BEGIN:VCALENDAR
VERSION:2.0
PRODID:-//I3E Institute - ECPv6.15.20//NONSGML v1.0//EN
CALSCALE:GREGORIAN
METHOD:PUBLISH
X-WR-CALNAME:I3E Institute
X-ORIGINAL-URL:https://i3e-institute.de
X-WR-CALDESC:Veranstaltungen für I3E Institute
REFRESH-INTERVAL;VALUE=DURATION:PT1H
X-Robots-Tag:noindex
X-PUBLISHED-TTL:PT1H
BEGIN:VTIMEZONE
TZID:Europe/Berlin
BEGIN:DAYLIGHT
TZOFFSETFROM:+0100
TZOFFSETTO:+0200
TZNAME:CEST
DTSTART:20240331T010000
END:DAYLIGHT
BEGIN:STANDARD
TZOFFSETFROM:+0200
TZOFFSETTO:+0100
TZNAME:CET
DTSTART:20241027T010000
END:STANDARD
BEGIN:DAYLIGHT
TZOFFSETFROM:+0100
TZOFFSETTO:+0200
TZNAME:CEST
DTSTART:20250330T010000
END:DAYLIGHT
BEGIN:STANDARD
TZOFFSETFROM:+0200
TZOFFSETTO:+0100
TZNAME:CET
DTSTART:20251026T010000
END:STANDARD
BEGIN:DAYLIGHT
TZOFFSETFROM:+0100
TZOFFSETTO:+0200
TZNAME:CEST
DTSTART:20260329T010000
END:DAYLIGHT
BEGIN:STANDARD
TZOFFSETFROM:+0200
TZOFFSETTO:+0100
TZNAME:CET
DTSTART:20261025T010000
END:STANDARD
END:VTIMEZONE
BEGIN:VEVENT
DTSTART;TZID=Europe/Berlin:20251202T190000
DTEND;TZID=Europe/Berlin:20251202T203000
DTSTAMP:20260421T103430
CREATED:20251205T114211Z
LAST-MODIFIED:20251205T114555Z
UID:4868-1764702000-1764707400@i3e-institute.de
SUMMARY:Businessplan schreiben
DESCRIPTION:Businessplan schreiben\nFormat: Online-Vortrag der Reihe „Entrepreneurship Essentials“ in Zusammenarbeit mit der IHK Reutlingen \nBeschreibung:\nDer Businessplan ist der Fahrplan für die Umsetzung Ihres unternehmerischen Vorhabens. Er ist notwendig\, wenn Sie eine externe Finanzierung benötigen.\nDer Businessplan hilft aber vor allem Ihnen selbst: Er schafft Klarheit\, Struktur und Planbarkeit – und hilft Ihnen\, Ihr Ziel sicher im Blick zu behalten.\n \nDas bietet der Online-Vortrag: \n\nStruktur und Inhalte eines Businessplans\nUnterlagen für die Bank\nTipps für einen erfolgreichen Businessplan\n\n\nDatum & Zeit:\nDienstag\, 2. Dezember 2025\,\n19:00 –\nca. 20:30 Uhr\n \nOrt:\nOnline-Vortrag (Zoom)\n \nTeilnahme-Link (Zoom):\n\nhttps://ihkrt.zoom.us/j/97047689282\n\nMeeting-ID: 970 4768 9282\nKenncode: 313932
URL:https://i3e-institute.de/event/businessplan-schreiben/
LOCATION:Online\, Online\, Online\, Online\, Online\, Germany
ATTACH;FMTTYPE=image/jpeg:https://i3e-institute.de/wp-content/uploads/2025/10/Gruender.jpg
END:VEVENT
END:VCALENDAR