BEGIN:VCALENDAR
VERSION:2.0
PRODID:-//I3E Institute - ECPv6.15.20//NONSGML v1.0//EN
CALSCALE:GREGORIAN
METHOD:PUBLISH
X-WR-CALNAME:I3E Institute
X-ORIGINAL-URL:https://i3e-institute.de
X-WR-CALDESC:Veranstaltungen für I3E Institute
REFRESH-INTERVAL;VALUE=DURATION:PT1H
X-Robots-Tag:noindex
X-PUBLISHED-TTL:PT1H
BEGIN:VTIMEZONE
TZID:Europe/Berlin
BEGIN:DAYLIGHT
TZOFFSETFROM:+0100
TZOFFSETTO:+0200
TZNAME:CEST
DTSTART:20240331T010000
END:DAYLIGHT
BEGIN:STANDARD
TZOFFSETFROM:+0200
TZOFFSETTO:+0100
TZNAME:CET
DTSTART:20241027T010000
END:STANDARD
BEGIN:DAYLIGHT
TZOFFSETFROM:+0100
TZOFFSETTO:+0200
TZNAME:CEST
DTSTART:20250330T010000
END:DAYLIGHT
BEGIN:STANDARD
TZOFFSETFROM:+0200
TZOFFSETTO:+0100
TZNAME:CET
DTSTART:20251026T010000
END:STANDARD
BEGIN:DAYLIGHT
TZOFFSETFROM:+0100
TZOFFSETTO:+0200
TZNAME:CEST
DTSTART:20260329T010000
END:DAYLIGHT
BEGIN:STANDARD
TZOFFSETFROM:+0200
TZOFFSETTO:+0100
TZNAME:CET
DTSTART:20261025T010000
END:STANDARD
END:VTIMEZONE
BEGIN:VEVENT
DTSTART;TZID=Europe/Berlin:20251215T140000
DTEND;TZID=Europe/Berlin:20251215T160000
DTSTAMP:20260421T103341
CREATED:20251211T100036Z
LAST-MODIFIED:20251211T101622Z
UID:4878-1765807200-1765814400@i3e-institute.de
SUMMARY:Future Campus – Digitaler | Workshop Kick-off zur Erstellung eines freiwilligen Nachhaltigkeitsberichts
DESCRIPTION:Kick-off zur Erstellung eines freiwilligen Nachhaltigkeitsberichts\nFormat: Future Campus – Digitaler Workshop \nBeschreibung:\nGrundlage für unsere Initiative ist die freiwillige Erstellung eines Nachhaltigkeitsberichts für die Hochschule Albstadt-Sigmaringen für das Jahr 2026\n(erscheint im ersten Halbjahr 2027). Der Nachhaltigkeitsbericht dient neben dem möglichen Erfüllen einer Berichtspflicht als Kommunikations- und\nMotivationsinstrument\, macht Fortschritte sichtbar und kann Studierende für ein Engagement im Bereich Nachhaltigkeit begeistern.\nDer Kick-off-Workshop bildet die Auftaktveranstaltung und soll das Fundament für ein gemeinsames Zukunftsverständnis schaffen.\n \nNachhaltigkeitsbeauftragte:\nProf. Dr. Habbo Heinze\, Prof. Lorenz Beck\, Prof. Dr. Uwe Sachse\n \n\nDatum & Zeit:\n15. Dezember 2025\,\n14:00 – 16:00 Uhr\n \nOrt:\nDigitaler Workshop (Future Campus)\n \nTeilnahmelink:
URL:https://i3e-institute.de/event/future-campus-digitaler-workshop-kick-off-zur-erstellung-eines-freiwilligen-nachhaltigkeitsberichts/
ATTACH;FMTTYPE=image/jpeg:https://i3e-institute.de/wp-content/uploads/2025/12/Nachhaltigkeitsbericht.jpg
END:VEVENT
END:VCALENDAR