BEGIN:VCALENDAR
VERSION:2.0
PRODID:-//I3E Institute - ECPv6.15.20//NONSGML v1.0//EN
CALSCALE:GREGORIAN
METHOD:PUBLISH
X-ORIGINAL-URL:https://i3e-institute.de
X-WR-CALDESC:Veranstaltungen für I3E Institute
REFRESH-INTERVAL;VALUE=DURATION:PT1H
X-Robots-Tag:noindex
X-PUBLISHED-TTL:PT1H
BEGIN:VTIMEZONE
TZID:Europe/Berlin
BEGIN:DAYLIGHT
TZOFFSETFROM:+0100
TZOFFSETTO:+0200
TZNAME:CEST
DTSTART:20240331T010000
END:DAYLIGHT
BEGIN:STANDARD
TZOFFSETFROM:+0200
TZOFFSETTO:+0100
TZNAME:CET
DTSTART:20241027T010000
END:STANDARD
BEGIN:DAYLIGHT
TZOFFSETFROM:+0100
TZOFFSETTO:+0200
TZNAME:CEST
DTSTART:20250330T010000
END:DAYLIGHT
BEGIN:STANDARD
TZOFFSETFROM:+0200
TZOFFSETTO:+0100
TZNAME:CET
DTSTART:20251026T010000
END:STANDARD
BEGIN:DAYLIGHT
TZOFFSETFROM:+0100
TZOFFSETTO:+0200
TZNAME:CEST
DTSTART:20260329T010000
END:DAYLIGHT
BEGIN:STANDARD
TZOFFSETFROM:+0200
TZOFFSETTO:+0100
TZNAME:CET
DTSTART:20261025T010000
END:STANDARD
END:VTIMEZONE
BEGIN:VEVENT
DTSTART;TZID=Europe/Berlin:20251106T103000
DTEND;TZID=Europe/Berlin:20251106T110000
DTSTAMP:20260421T103856
CREATED:20251015T143036Z
LAST-MODIFIED:20251015T143042Z
UID:4779-1762425000-1762426800@i3e-institute.de
SUMMARY:Fachkräfte & Future Skill für Innovationsmanagement
DESCRIPTION:Fachkräfte & Future Skill für Innovationsmanagement\nFormat: Fachvortrag von Prof. Dr. Max Wolf mit anschließender Panel-Diskussion – im Rahmen der ganztägigen Karrierebörse der Hochschule Albstadt-Sigmaringen. \n\nDatum & Zeit:\n6. November 2025\,\n10:30 – 11:00 Uhr\n \nOrt: \n\nHochschule Albstadt-Sigmaringen\nAnton Gunther Str. 52\n72488 Sigmaringen\nGebäude 106\, Raum 620\n\n \nAnmeldung per Mail an:\nter.Woort@hs-albsig.de
URL:https://i3e-institute.de/event/fachkraefte-future-skill-fuer-innovationsmanagement/
LOCATION:Hochschule Albstadt-Sigmaringen\, Anton-Günther-Straße 51\, Sigmaringen\, Germany
ATTACH;FMTTYPE=image/jpeg:https://i3e-institute.de/wp-content/uploads/2025/10/Innovationsmanagement.jpg
END:VEVENT
BEGIN:VEVENT
DTSTART;TZID=Europe/Berlin:20251108T090000
DTEND;TZID=Europe/Berlin:20251108T170000
DTSTAMP:20260421T103856
CREATED:20251015T142553Z
LAST-MODIFIED:20251015T142553Z
UID:4775-1762592400-1762621200@i3e-institute.de
SUMMARY:Start-Up Training Teil 2  Aufbaumodul
DESCRIPTION:Start-Up Training Teil 2 – Aufbaumodul\nInhalt: Aufbaumodul: Ideen präsentieren (Pitch)\, Förderungen & Finanzen\, Businessplan & Markteintritt \n\nDatum & Zeit:\n8. November 2025\,\n9:00 – 17:00 Uhr\n \nOrt: \n\nForschungsfabrik Sigmaringen\n\n \nAnmeldung per Mail an:\nhotea@hs-albsig.de
URL:https://i3e-institute.de/event/start-up-training-teil-2-aufbaumodul/
LOCATION:Forschungsfabrik Sigmaringen\, Marie-Curie-Strasse 20\, Sigmaringen\, 72488
ATTACH;FMTTYPE=image/jpeg:https://i3e-institute.de/wp-content/uploads/2025/10/StartUp.jpg
END:VEVENT
BEGIN:VEVENT
DTSTART;TZID=Europe/Berlin:20251112T080000
DTEND;TZID=Europe/Berlin:20251112T130000
DTSTAMP:20260421T103856
CREATED:20251020T201902Z
LAST-MODIFIED:20251020T202027Z
UID:4791-1762934400-1762952400@i3e-institute.de
SUMMARY:Next Generation of Change Maker – Entrepreneurship Education
DESCRIPTION:Beschreibung: 60 Schüler ab der 10. Klasse lernen spielerisch Entrepreneurship und Change Maker Kompetenzen kennen und setzen diese praktisch um. \n\nDatum & Zeit:\n12. November 2025\,\n08:00 – 13:00 Uhr\n \nOrt: \n\nGymnasium Balingen\n\n \nInfo:\nSachse@hs-albsig.de
URL:https://i3e-institute.de/event/next-generation-of-change-maker-entrepreneurship-education/
LOCATION:Gymnasium Balingen
ATTACH;FMTTYPE=image/jpeg:https://i3e-institute.de/wp-content/uploads/2025/10/StartUp.jpg
END:VEVENT
BEGIN:VEVENT
DTSTART;TZID=Europe/Berlin:20251112T150000
DTEND;TZID=Europe/Berlin:20251112T190000
DTSTAMP:20260421T103856
CREATED:20251015T143323Z
LAST-MODIFIED:20251015T143433Z
UID:4782-1762959600-1762974000@i3e-institute.de
SUMMARY:November Start-©up
DESCRIPTION:November Start-©up\n\nDatum & Zeit:\n12. November 2025\,\n15:00 – 19:00 Uhr\n \nOrt: \n\nHTWG Konstanz\n\n \nAnmeldung bis 15. Oktober an:\nkilometer1@htwg-konstanz.de
URL:https://i3e-institute.de/event/november-start-up/
LOCATION:HTWG Konstanz
ATTACH;FMTTYPE=image/jpeg:https://i3e-institute.de/wp-content/uploads/2025/10/StartUp.jpg
END:VEVENT
BEGIN:VEVENT
DTSTART;TZID=Europe/Berlin:20251120T150000
DTEND;TZID=Europe/Berlin:20251120T150000
DTSTAMP:20260421T103856
CREATED:20251015T143733Z
LAST-MODIFIED:20251015T143904Z
UID:4786-1763650800-1763650800@i3e-institute.de
SUMMARY:Gründerwoche
DESCRIPTION:Gründerwoche\nFormat: Fachvorträge und Panel-Diskussion \n\nDatum & Zeit:\n20. November 2025\,\n15:00 – 20:00 Uhr\n \nOrt: \n\nWeingarten\, Sigmaringen\, Konstanz\n\n \nAnmeldung per Mail an:\nhotea@hs-albsig.de
URL:https://i3e-institute.de/event/gruenderwoche/
ATTACH;FMTTYPE=image/jpeg:https://i3e-institute.de/wp-content/uploads/2025/10/Gruender.jpg
END:VEVENT
BEGIN:VEVENT
DTSTART;TZID=Europe/Berlin:20251127T170000
DTEND;TZID=Europe/Berlin:20251127T200000
DTSTAMP:20260421T103856
CREATED:20251028T094003Z
LAST-MODIFIED:20251120T110109Z
UID:4809-1764262800-1764273600@i3e-institute.de
SUMMARY:Next Step: Gründen!
DESCRIPTION:Wege\, Mut & Möglichkeiten \nDas Event für Gründungsinteressierte:\nLass dich inspirieren\, hol dir wertvolle Tipps und knüpfe neue Kontakte! \nHier anmelden! \nWeitere Informationen \n 
URL:https://i3e-institute.de/event/next-step-gruenden/
LOCATION:engomo GmbH\, Marktstraße 52\, Albstadt\, 72458
ATTACH;FMTTYPE=image/jpeg:https://i3e-institute.de/wp-content/uploads/2025/10/Gruender.jpg
END:VEVENT
BEGIN:VEVENT
DTSTART;TZID=Europe/Berlin:20251128T190000
DTEND;TZID=Europe/Berlin:20251128T203000
DTSTAMP:20260421T103856
CREATED:20251205T113902Z
LAST-MODIFIED:20251205T114752Z
UID:4865-1764356400-1764361800@i3e-institute.de
SUMMARY:Gründen im Nebenerwerb
DESCRIPTION:Gründen im Nebenerwerb\nFormat: Online-Vortrag in Zusammenarbeit mit der IHK Reutlingen \nBeschreibung:\nSie möchten eine Geschäftsidee austesten? Sie überlegen\, sich während des Studiums im Nebenerwerb selbstständig zu machen?\nWie Sie sich im Nebenerwerb selbstständig machen und was Sie dabei beachten sollten\, erfahren Sie in diesem Online-Vortrag der IHK Reutlingen.\n \nDas bietet der Online-Vortrag: \n\nGewerbe\, Freiberufler\, Freelancer oder Kleinunternehmer?\nScheinselbstständigkeit\nRechtsformen im Nebenerwerb und Anmeldung\nBuchführung\, Steuern und Versicherungen\nGründungsschritte im Überblick\nTipps für die Gründung\n\n\nDatum & Zeit:\nDienstag\, 28. November 2025\,\n19:00 – ca. 20:30 Uhr\n \nOrt:\nOnline-Vortrag (Zoom)\n \nTeilnahme-Link (Zoom):\nhttps://ihkrt.zoom.us/j/97047689282\nMeeting-ID: 970 4768 9282\nKenncode: 313932
URL:https://i3e-institute.de/event/gruenden-im-nebenerwerb/
LOCATION:Online\, Online\, Online\, Online\, Online\, Germany
ATTACH;FMTTYPE=image/jpeg:https://i3e-institute.de/wp-content/uploads/2025/10/Gruender.jpg
END:VEVENT
END:VCALENDAR